BEGIN:VCALENDAR
VERSION:2.0
PRODID:-//Peartree Spring Primary School - ECPv5.12.0//NONSGML v1.0//EN
CALSCALE:GREGORIAN
METHOD:PUBLISH
X-WR-CALNAME:Peartree Spring Primary School
X-ORIGINAL-URL:https://peartreespringjm.herts.sch.uk
X-WR-CALDESC:Events for Peartree Spring Primary School
REFRESH-INTERVAL;VALUE=DURATION:PT1H
X-Robots-Tag:noindex
X-PUBLISHED-TTL:PT1H
BEGIN:VTIMEZONE
TZID:Europe/London
BEGIN:DAYLIGHT
TZOFFSETFROM:+0000
TZOFFSETTO:+0100
TZNAME:BST
DTSTART:20260329T010000
END:DAYLIGHT
BEGIN:STANDARD
TZOFFSETFROM:+0100
TZOFFSETTO:+0000
TZNAME:GMT
DTSTART:20261025T010000
END:STANDARD
END:VTIMEZONE
BEGIN:VEVENT
DTSTART;VALUE=DATE:20260427
DTEND;VALUE=DATE:20260502
DTSTAMP:20260419T145847
CREATED:20260213T154729Z
LAST-MODIFIED:20260213T154729Z
UID:13633-1777248000-1777679999@peartreespringjm.herts.sch.uk
SUMMARY:Science Week
DESCRIPTION:
URL:https://peartreespringjm.herts.sch.uk/event/science-week-4/
END:VEVENT
BEGIN:VEVENT
DTSTART;VALUE=DATE:20260504
DTEND;VALUE=DATE:20260505
DTSTAMP:20260419T145847
CREATED:20260213T154907Z
LAST-MODIFIED:20260213T154907Z
UID:13639-1777852800-1777939199@peartreespringjm.herts.sch.uk
SUMMARY:Bank Holiday (school closed)
DESCRIPTION:
URL:https://peartreespringjm.herts.sch.uk/event/bank-holiday-school-closed-5/
END:VEVENT
BEGIN:VEVENT
DTSTART;VALUE=DATE:20260504
DTEND;VALUE=DATE:20260509
DTSTAMP:20260419T145847
CREATED:20260213T154946Z
LAST-MODIFIED:20260213T154946Z
UID:13641-1777852800-1778284799@peartreespringjm.herts.sch.uk
SUMMARY:Year 5 cycle training - all week
DESCRIPTION:
URL:https://peartreespringjm.herts.sch.uk/event/year-5-cycle-training-all-week/
END:VEVENT
BEGIN:VEVENT
DTSTART;TZID=Europe/London:20260505T180000
DTEND;TZID=Europe/London:20260505T190000
DTSTAMP:20260419T145847
CREATED:20260213T155109Z
LAST-MODIFIED:20260213T155109Z
UID:13643-1778004000-1778007600@peartreespringjm.herts.sch.uk
SUMMARY:Year 6 PGL meeting for parents via Livestorm
DESCRIPTION:
URL:https://peartreespringjm.herts.sch.uk/event/year-6-pgl-meeting-for-parents-via-livestorm/
END:VEVENT
BEGIN:VEVENT
DTSTART;TZID=Europe/London:20260507T091500
DTEND;TZID=Europe/London:20260507T094500
DTSTAMP:20260419T145847
CREATED:20260213T155150Z
LAST-MODIFIED:20260213T155150Z
UID:13645-1778145300-1778147100@peartreespringjm.herts.sch.uk
SUMMARY:Bumblebee Class assembly via Livestorm
DESCRIPTION:
URL:https://peartreespringjm.herts.sch.uk/event/bumblebee-class-assembly-via-livestorm-2/
END:VEVENT
BEGIN:VEVENT
DTSTART;VALUE=DATE:20260511
DTEND;VALUE=DATE:20260515
DTSTAMP:20260419T145847
CREATED:20260213T155218Z
LAST-MODIFIED:20260213T155218Z
UID:13647-1778457600-1778803199@peartreespringjm.herts.sch.uk
SUMMARY:KS2 SATS week
DESCRIPTION:
URL:https://peartreespringjm.herts.sch.uk/event/ks2-sats-week-4/
END:VEVENT
BEGIN:VEVENT
DTSTART;TZID=Europe/London:20260521T091500
DTEND;TZID=Europe/London:20260521T094500
DTSTAMP:20260419T145847
CREATED:20260213T155314Z
LAST-MODIFIED:20260213T155331Z
UID:13649-1779354900-1779356700@peartreespringjm.herts.sch.uk
SUMMARY:Butterfly Class assembly via Livestorm
DESCRIPTION:
URL:https://peartreespringjm.herts.sch.uk/event/butterfly-class-assembly-via-livestorm-5/
END:VEVENT
BEGIN:VEVENT
DTSTART;VALUE=DATE:20260522
DTEND;VALUE=DATE:20260523
DTSTAMP:20260419T145847
CREATED:20260213T155515Z
LAST-MODIFIED:20260213T155515Z
UID:13651-1779408000-1779494399@peartreespringjm.herts.sch.uk
SUMMARY:Year 6 to Chessington
DESCRIPTION:
URL:https://peartreespringjm.herts.sch.uk/event/year-6-to-chessington/
END:VEVENT
BEGIN:VEVENT
DTSTART;TZID=Europe/London:20260522T151500
DTEND;TZID=Europe/London:20260522T151500
DTSTAMP:20260419T145847
CREATED:20260224T121356Z
LAST-MODIFIED:20260224T121356Z
UID:13664-1779462900-1779462900@peartreespringjm.herts.sch.uk
SUMMARY:End of term
DESCRIPTION:
URL:https://peartreespringjm.herts.sch.uk/event/end-of-term-3/
END:VEVENT
BEGIN:VEVENT
DTSTART;VALUE=DATE:20260525
DTEND;VALUE=DATE:20260530
DTSTAMP:20260419T145847
CREATED:20260224T121311Z
LAST-MODIFIED:20260224T121317Z
UID:13662-1779667200-1780099199@peartreespringjm.herts.sch.uk
SUMMARY:Half Term (school closed)
DESCRIPTION:
URL:https://peartreespringjm.herts.sch.uk/event/half-term-school-closed-9/
END:VEVENT
END:VCALENDAR