BEGIN:VCALENDAR
VERSION:2.0
PRODID:-//Peartree Spring Primary School - ECPv5.12.0//NONSGML v1.0//EN
CALSCALE:GREGORIAN
METHOD:PUBLISH
X-WR-CALNAME:Peartree Spring Primary School
X-ORIGINAL-URL:https://peartreespringjm.herts.sch.uk
X-WR-CALDESC:Events for Peartree Spring Primary School
REFRESH-INTERVAL;VALUE=DURATION:PT1H
X-Robots-Tag:noindex
X-PUBLISHED-TTL:PT1H
BEGIN:VTIMEZONE
TZID:Europe/London
BEGIN:DAYLIGHT
TZOFFSETFROM:+0000
TZOFFSETTO:+0100
TZNAME:BST
DTSTART:20240331T010000
END:DAYLIGHT
BEGIN:STANDARD
TZOFFSETFROM:+0100
TZOFFSETTO:+0000
TZNAME:GMT
DTSTART:20241027T010000
END:STANDARD
END:VTIMEZONE
BEGIN:VEVENT
DTSTART;VALUE=DATE:20240930
DTEND;VALUE=DATE:20241005
DTSTAMP:20260419T133152
CREATED:20240919T090443Z
LAST-MODIFIED:20240919T090443Z
UID:10285-1727654400-1728086399@peartreespringjm.herts.sch.uk
SUMMARY:Harvest Festival Week
DESCRIPTION:
URL:https://peartreespringjm.herts.sch.uk/event/harvest-festival-week-3/
END:VEVENT
BEGIN:VEVENT
DTSTART;TZID=Europe/London:20241003T091500
DTEND;TZID=Europe/London:20241003T094500
DTSTAMP:20260419T133152
CREATED:20240919T090521Z
LAST-MODIFIED:20240919T090521Z
UID:10287-1727946900-1727948700@peartreespringjm.herts.sch.uk
SUMMARY:Pyrenees Class Assembly via Livestorm
DESCRIPTION:
URL:https://peartreespringjm.herts.sch.uk/event/pyrenees-class-assembly-via-livestorm-4/
END:VEVENT
BEGIN:VEVENT
DTSTART;VALUE=DATE:20241008
DTEND;VALUE=DATE:20241009
DTSTAMP:20260419T133152
CREATED:20240919T090621Z
LAST-MODIFIED:20240919T090621Z
UID:10291-1728345600-1728431999@peartreespringjm.herts.sch.uk
SUMMARY:Sibling School Photographs (Reception to Year 6)
DESCRIPTION:
URL:https://peartreespringjm.herts.sch.uk/event/sibling-school-photographs-reception-to-year-6/
END:VEVENT
BEGIN:VEVENT
DTSTART;TZID=Europe/London:20241010T091500
DTEND;TZID=Europe/London:20241010T094500
DTSTAMP:20260419T133152
CREATED:20240919T090656Z
LAST-MODIFIED:20240919T090656Z
UID:10293-1728551700-1728553500@peartreespringjm.herts.sch.uk
SUMMARY:Java Class Assembly via Livestorm
DESCRIPTION:
URL:https://peartreespringjm.herts.sch.uk/event/java-class-assembly-via-livestorm-4/
END:VEVENT
BEGIN:VEVENT
DTSTART;TZID=Europe/London:20241011T100000
DTEND;TZID=Europe/London:20241011T103000
DTSTAMP:20260419T133152
CREATED:20240919T090551Z
LAST-MODIFIED:20241002T070725Z
UID:10289-1728640800-1728642600@peartreespringjm.herts.sch.uk
SUMMARY:Harvest Festival Assembly via Livestorm
DESCRIPTION:
URL:https://peartreespringjm.herts.sch.uk/event/harvest-festival-assembly-via-livestorm-3/
END:VEVENT
BEGIN:VEVENT
DTSTART;VALUE=DATE:20241021
DTEND;VALUE=DATE:20241026
DTSTAMP:20260419T133152
CREATED:20240919T090745Z
LAST-MODIFIED:20240919T090745Z
UID:10297-1729468800-1729900799@peartreespringjm.herts.sch.uk
SUMMARY:NO teacher led clubs
DESCRIPTION:
URL:https://peartreespringjm.herts.sch.uk/event/no-teacher-led-clubs/
END:VEVENT
BEGIN:VEVENT
DTSTART;TZID=Europe/London:20241022T153000
DTEND;TZID=Europe/London:20241022T190000
DTSTAMP:20260419T133152
CREATED:20240919T090831Z
LAST-MODIFIED:20240919T090831Z
UID:10299-1729611000-1729623600@peartreespringjm.herts.sch.uk
SUMMARY:Rockies and Pyrenees Class Parent Consultations
DESCRIPTION:
URL:https://peartreespringjm.herts.sch.uk/event/rockies-and-pyrenees-class-parent-consultations/
END:VEVENT
BEGIN:VEVENT
DTSTART;VALUE=DATE:20241023
DTEND;VALUE=DATE:20241024
DTSTAMP:20260419T133152
CREATED:20240919T091058Z
LAST-MODIFIED:20240919T091058Z
UID:10307-1729641600-1729727999@peartreespringjm.herts.sch.uk
SUMMARY:My Abilities Day - non-uniform
DESCRIPTION:
URL:https://peartreespringjm.herts.sch.uk/event/my-abilities-day-non-uniform/
END:VEVENT
BEGIN:VEVENT
DTSTART;TZID=Europe/London:20241023T153000
DTEND;TZID=Europe/London:20241023T190000
DTSTAMP:20260419T133152
CREATED:20240919T090912Z
LAST-MODIFIED:20240919T090912Z
UID:10301-1729697400-1729710000@peartreespringjm.herts.sch.uk
SUMMARY:Rockies and Pyrenees Class Parent Consultations
DESCRIPTION:
URL:https://peartreespringjm.herts.sch.uk/event/rockies-and-pyrenees-class-parent-consultations-2/
END:VEVENT
BEGIN:VEVENT
DTSTART;TZID=Europe/London:20241023T153000
DTEND;TZID=Europe/London:20241023T190000
DTSTAMP:20260419T133152
CREATED:20240919T091011Z
LAST-MODIFIED:20240919T091011Z
UID:10303-1729697400-1729710000@peartreespringjm.herts.sch.uk
SUMMARY:Parent Consultations - NOT Rockies and Pyrenees Class
DESCRIPTION:
URL:https://peartreespringjm.herts.sch.uk/event/parent-consultations-not-rockies-and-pyrenees-class/
END:VEVENT
BEGIN:VEVENT
DTSTART;TZID=Europe/London:20241024T153000
DTEND;TZID=Europe/London:20241024T190000
DTSTAMP:20260419T133152
CREATED:20240919T091034Z
LAST-MODIFIED:20240919T091034Z
UID:10305-1729783800-1729796400@peartreespringjm.herts.sch.uk
SUMMARY:Parent Consultations - NOT Rockies and Pyrenees Class
DESCRIPTION:
URL:https://peartreespringjm.herts.sch.uk/event/parent-consultations-not-rockies-and-pyrenees-class-2/
END:VEVENT
BEGIN:VEVENT
DTSTART;VALUE=DATE:20241028
DTEND;VALUE=DATE:20241102
DTSTAMP:20260419T133152
CREATED:20240919T091129Z
LAST-MODIFIED:20240919T091129Z
UID:10309-1730073600-1730505599@peartreespringjm.herts.sch.uk
SUMMARY:Half Term
DESCRIPTION:
URL:https://peartreespringjm.herts.sch.uk/event/half-term-2/
END:VEVENT
END:VCALENDAR