BEGIN:VCALENDAR
VERSION:2.0
PRODID:-//Peartree Spring Primary School - ECPv5.12.0//NONSGML v1.0//EN
CALSCALE:GREGORIAN
METHOD:PUBLISH
X-WR-CALNAME:Peartree Spring Primary School
X-ORIGINAL-URL:https://peartreespringjm.herts.sch.uk
X-WR-CALDESC:Events for Peartree Spring Primary School
REFRESH-INTERVAL;VALUE=DURATION:PT1H
X-Robots-Tag:noindex
X-PUBLISHED-TTL:PT1H
BEGIN:VTIMEZONE
TZID:Europe/London
BEGIN:DAYLIGHT
TZOFFSETFROM:+0000
TZOFFSETTO:+0100
TZNAME:BST
DTSTART:20260329T010000
END:DAYLIGHT
BEGIN:STANDARD
TZOFFSETFROM:+0100
TZOFFSETTO:+0000
TZNAME:GMT
DTSTART:20261025T010000
END:STANDARD
END:VTIMEZONE
BEGIN:VEVENT
DTSTART;VALUE=DATE:20260713
DTEND;VALUE=DATE:20260714
DTSTAMP:20260419T191849
CREATED:20260224T124633Z
LAST-MODIFIED:20260224T124633Z
UID:13708-1783900800-1783987199@peartreespringjm.herts.sch.uk
SUMMARY:Changeover days - pupils visit new classes
DESCRIPTION:
URL:https://peartreespringjm.herts.sch.uk/event/changeover-days-pupils-visit-new-classes-7/
END:VEVENT
BEGIN:VEVENT
DTSTART;VALUE=DATE:20260713
DTEND;VALUE=DATE:20260718
DTSTAMP:20260419T191849
CREATED:20260224T125144Z
LAST-MODIFIED:20260224T125144Z
UID:13714-1783900800-1784332799@peartreespringjm.herts.sch.uk
SUMMARY:School reports out - week commencing 13th July
DESCRIPTION:
URL:https://peartreespringjm.herts.sch.uk/event/school-reports-out-week-commencing-13th-july/
END:VEVENT
BEGIN:VEVENT
DTSTART;TZID=Europe/London:20260713T153000
DTEND;TZID=Europe/London:20260713T180000
DTSTAMP:20260419T191849
CREATED:20260224T125229Z
LAST-MODIFIED:20260224T125229Z
UID:13716-1783956600-1783965600@peartreespringjm.herts.sch.uk
SUMMARY:End of year meeting with current class teacher
DESCRIPTION:
URL:https://peartreespringjm.herts.sch.uk/event/end-of-year-meeting-with-current-class-teacher/
END:VEVENT
END:VCALENDAR