BEGIN:VCALENDAR
VERSION:2.0
PRODID:-//Peartree Spring Primary School - ECPv5.12.0//NONSGML v1.0//EN
CALSCALE:GREGORIAN
METHOD:PUBLISH
X-WR-CALNAME:Peartree Spring Primary School
X-ORIGINAL-URL:https://peartreespringjm.herts.sch.uk
X-WR-CALDESC:Events for Peartree Spring Primary School
REFRESH-INTERVAL;VALUE=DURATION:PT1H
X-Robots-Tag:noindex
X-PUBLISHED-TTL:PT1H
BEGIN:VTIMEZONE
TZID:Europe/London
BEGIN:DAYLIGHT
TZOFFSETFROM:+0000
TZOFFSETTO:+0100
TZNAME:BST
DTSTART:20260329T010000
END:DAYLIGHT
BEGIN:STANDARD
TZOFFSETFROM:+0100
TZOFFSETTO:+0000
TZNAME:GMT
DTSTART:20261025T010000
END:STANDARD
END:VTIMEZONE
BEGIN:VEVENT
DTSTART;VALUE=DATE:20260608
DTEND;VALUE=DATE:20260613
DTSTAMP:20260419T175302
CREATED:20260224T122244Z
LAST-MODIFIED:20260224T122337Z
UID:13676-1780876800-1781308799@peartreespringjm.herts.sch.uk
SUMMARY:Year 1 phonics tests
DESCRIPTION:
URL:https://peartreespringjm.herts.sch.uk/event/year-1-phonics-tests-2/
END:VEVENT
BEGIN:VEVENT
DTSTART;TZID=Europe/London:20260608T183000
DTEND;TZID=Europe/London:20260608T190000
DTSTAMP:20260419T175302
CREATED:20260224T122138Z
LAST-MODIFIED:20260224T122145Z
UID:13674-1780943400-1780945200@peartreespringjm.herts.sch.uk
SUMMARY:Sex and Relationship Curriculum meeting for Year 6 parents via Livestorm
DESCRIPTION:
URL:https://peartreespringjm.herts.sch.uk/event/sex-and-relationship-curriculum-meeting-for-year-6-parents-via-livestorm-2/
END:VEVENT
END:VCALENDAR