BEGIN:VCALENDAR
VERSION:2.0
PRODID:-//Peartree Spring Primary School - ECPv5.12.0//NONSGML v1.0//EN
CALSCALE:GREGORIAN
METHOD:PUBLISH
X-WR-CALNAME:Peartree Spring Primary School
X-ORIGINAL-URL:https://peartreespringjm.herts.sch.uk
X-WR-CALDESC:Events for Peartree Spring Primary School
REFRESH-INTERVAL;VALUE=DURATION:PT1H
X-Robots-Tag:noindex
X-PUBLISHED-TTL:PT1H
BEGIN:VTIMEZONE
TZID:Europe/London
BEGIN:DAYLIGHT
TZOFFSETFROM:+0000
TZOFFSETTO:+0100
TZNAME:BST
DTSTART:20260329T010000
END:DAYLIGHT
BEGIN:STANDARD
TZOFFSETFROM:+0100
TZOFFSETTO:+0000
TZNAME:GMT
DTSTART:20261025T010000
END:STANDARD
END:VTIMEZONE
BEGIN:VEVENT
DTSTART;VALUE=DATE:20260427
DTEND;VALUE=DATE:20260502
DTSTAMP:20260419T145747
CREATED:20260213T154729Z
LAST-MODIFIED:20260213T154729Z
UID:13633-1777248000-1777679999@peartreespringjm.herts.sch.uk
SUMMARY:Science Week
DESCRIPTION:
URL:https://peartreespringjm.herts.sch.uk/event/science-week-4/
END:VEVENT
BEGIN:VEVENT
DTSTART;TZID=Europe/London:20260430T091500
DTEND;TZID=Europe/London:20260430T094500
DTSTAMP:20260419T145747
CREATED:20260213T154839Z
LAST-MODIFIED:20260213T154839Z
UID:13637-1777540500-1777542300@peartreespringjm.herts.sch.uk
SUMMARY:Ladybird Class Assembly via Livestorm
DESCRIPTION:
URL:https://peartreespringjm.herts.sch.uk/event/ladybird-class-assembly-via-livestorm-5/
END:VEVENT
BEGIN:VEVENT
DTSTART;TZID=Europe/London:20260430T170000
DTEND;TZID=Europe/London:20260430T190000
DTSTAMP:20260419T145747
CREATED:20260213T154756Z
LAST-MODIFIED:20260213T154756Z
UID:13635-1777568400-1777575600@peartreespringjm.herts.sch.uk
SUMMARY:Science Evening
DESCRIPTION:
URL:https://peartreespringjm.herts.sch.uk/event/science-evening-3/
END:VEVENT
END:VCALENDAR