BEGIN:VCALENDAR
VERSION:2.0
PRODID:-//Peartree Spring Primary School - ECPv5.12.0//NONSGML v1.0//EN
CALSCALE:GREGORIAN
METHOD:PUBLISH
X-WR-CALNAME:Peartree Spring Primary School
X-ORIGINAL-URL:https://peartreespringjm.herts.sch.uk
X-WR-CALDESC:Events for Peartree Spring Primary School
REFRESH-INTERVAL;VALUE=DURATION:PT1H
X-Robots-Tag:noindex
X-PUBLISHED-TTL:PT1H
BEGIN:VTIMEZONE
TZID:Europe/London
BEGIN:DAYLIGHT
TZOFFSETFROM:+0000
TZOFFSETTO:+0100
TZNAME:BST
DTSTART:20260329T010000
END:DAYLIGHT
BEGIN:STANDARD
TZOFFSETFROM:+0100
TZOFFSETTO:+0000
TZNAME:GMT
DTSTART:20261025T010000
END:STANDARD
END:VTIMEZONE
BEGIN:VEVENT
DTSTART;TZID=Europe/London:20260422T084500
DTEND;TZID=Europe/London:20260422T090000
DTSTAMP:20260419T144517
CREATED:20260213T154545Z
LAST-MODIFIED:20260213T154545Z
UID:13627-1776847500-1776848400@peartreespringjm.herts.sch.uk
SUMMARY:Wednesday Workshops start
DESCRIPTION:
URL:https://peartreespringjm.herts.sch.uk/event/wednesday-workshops-start-4/
END:VEVENT
BEGIN:VEVENT
DTSTART;TZID=Europe/London:20260422T151500
DTEND;TZID=Europe/London:20260422T151500
DTSTAMP:20260419T144517
CREATED:20260224T121227Z
LAST-MODIFIED:20260224T121232Z
UID:13660-1776870900-1776870900@peartreespringjm.herts.sch.uk
SUMMARY:End of term
DESCRIPTION:
URL:https://peartreespringjm.herts.sch.uk/event/end-of-term-2/
END:VEVENT
BEGIN:VEVENT
DTSTART;TZID=Europe/London:20260422T183000
DTEND;TZID=Europe/London:20260422T200000
DTSTAMP:20260419T144517
CREATED:20260213T154442Z
LAST-MODIFIED:20260213T154442Z
UID:13625-1776882600-1776888000@peartreespringjm.herts.sch.uk
SUMMARY:Year 4 performance
DESCRIPTION:
URL:https://peartreespringjm.herts.sch.uk/event/year-4-performance-8/
END:VEVENT
END:VCALENDAR