BEGIN:VCALENDAR
VERSION:2.0
PRODID:-//Peartree Spring Primary School - ECPv5.12.0//NONSGML v1.0//EN
CALSCALE:GREGORIAN
METHOD:PUBLISH
X-WR-CALNAME:Peartree Spring Primary School
X-ORIGINAL-URL:https://peartreespringjm.herts.sch.uk
X-WR-CALDESC:Events for Peartree Spring Primary School
REFRESH-INTERVAL;VALUE=DURATION:PT1H
X-Robots-Tag:noindex
X-PUBLISHED-TTL:PT1H
BEGIN:VTIMEZONE
TZID:Europe/London
BEGIN:DAYLIGHT
TZOFFSETFROM:+0000
TZOFFSETTO:+0100
TZNAME:BST
DTSTART:20250330T010000
END:DAYLIGHT
BEGIN:STANDARD
TZOFFSETFROM:+0100
TZOFFSETTO:+0000
TZNAME:GMT
DTSTART:20251026T010000
END:STANDARD
END:VTIMEZONE
BEGIN:VEVENT
DTSTART;TZID=Europe/London:20250626T091500
DTEND;TZID=Europe/London:20250626T214500
DTSTAMP:20260419T175431
CREATED:20250225T142827Z
LAST-MODIFIED:20250422T114429Z
UID:11768-1750929300-1750974300@peartreespringjm.herts.sch.uk
SUMMARY:Jellyfish Class Assembly via Livestorm
DESCRIPTION:
URL:https://peartreespringjm.herts.sch.uk/event/jellyfish-class-assembly-3/
END:VEVENT
BEGIN:VEVENT
DTSTART;TZID=Europe/London:20250626T170000
DTEND;TZID=Europe/London:20250626T190000
DTSTAMP:20260419T175431
CREATED:20250225T153714Z
LAST-MODIFIED:20250509T114958Z
UID:11815-1750957200-1750964400@peartreespringjm.herts.sch.uk
SUMMARY:Science Evening
DESCRIPTION:
URL:https://peartreespringjm.herts.sch.uk/event/science-evening-2/
END:VEVENT
END:VCALENDAR