BEGIN:VCALENDAR
VERSION:2.0
PRODID:-//Peartree Spring Primary School - ECPv5.12.0//NONSGML v1.0//EN
CALSCALE:GREGORIAN
METHOD:PUBLISH
X-WR-CALNAME:Peartree Spring Primary School
X-ORIGINAL-URL:https://peartreespringjm.herts.sch.uk
X-WR-CALDESC:Events for Peartree Spring Primary School
REFRESH-INTERVAL;VALUE=DURATION:PT1H
X-Robots-Tag:noindex
X-PUBLISHED-TTL:PT1H
BEGIN:VTIMEZONE
TZID:Europe/London
BEGIN:DAYLIGHT
TZOFFSETFROM:+0000
TZOFFSETTO:+0100
TZNAME:BST
DTSTART:20250330T010000
END:DAYLIGHT
BEGIN:STANDARD
TZOFFSETFROM:+0100
TZOFFSETTO:+0000
TZNAME:GMT
DTSTART:20251026T010000
END:STANDARD
END:VTIMEZONE
BEGIN:VEVENT
DTSTART;VALUE=DATE:20250613
DTEND;VALUE=DATE:20250620
DTSTAMP:20260420T070140
CREATED:20250225T154616Z
LAST-MODIFIED:20250225T154619Z
UID:11825-1749772800-1750377599@peartreespringjm.herts.sch.uk
SUMMARY:National Sports Week
DESCRIPTION:
URL:https://peartreespringjm.herts.sch.uk/event/national-sports-week-2/
END:VEVENT
BEGIN:VEVENT
DTSTART;TZID=Europe/London:20250618T093000
DTEND;TZID=Europe/London:20250618T233000
DTSTAMP:20260420T070140
CREATED:20250225T154803Z
LAST-MODIFIED:20250225T154841Z
UID:11827-1750239000-1750289400@peartreespringjm.herts.sch.uk
SUMMARY:Years 5 and 6 Sports Day (weather permitting)
DESCRIPTION:
URL:https://peartreespringjm.herts.sch.uk/event/years-5-and-6-sports-day/
END:VEVENT
BEGIN:VEVENT
DTSTART;TZID=Europe/London:20250618T133000
DTEND;TZID=Europe/London:20250618T150000
DTSTAMP:20260420T070140
CREATED:20250225T155124Z
LAST-MODIFIED:20250225T155126Z
UID:11830-1750253400-1750258800@peartreespringjm.herts.sch.uk
SUMMARY:Years 3 and 4 Sports Day (weather permitting)
DESCRIPTION:
URL:https://peartreespringjm.herts.sch.uk/event/years-3-and-4-sports-day-weather-permitting-2/
END:VEVENT
END:VCALENDAR