BEGIN:VCALENDAR
VERSION:2.0
PRODID:-//Peartree Spring Primary School - ECPv5.12.0//NONSGML v1.0//EN
CALSCALE:GREGORIAN
METHOD:PUBLISH
X-WR-CALNAME:Peartree Spring Primary School
X-ORIGINAL-URL:https://peartreespringjm.herts.sch.uk
X-WR-CALDESC:Events for Peartree Spring Primary School
REFRESH-INTERVAL;VALUE=DURATION:PT1H
X-Robots-Tag:noindex
X-PUBLISHED-TTL:PT1H
BEGIN:VTIMEZONE
TZID:Europe/London
BEGIN:DAYLIGHT
TZOFFSETFROM:+0000
TZOFFSETTO:+0100
TZNAME:BST
DTSTART:20230326T010000
END:DAYLIGHT
BEGIN:STANDARD
TZOFFSETFROM:+0100
TZOFFSETTO:+0000
TZNAME:GMT
DTSTART:20231029T010000
END:STANDARD
END:VTIMEZONE
BEGIN:VEVENT
DTSTART;VALUE=DATE:20230904
DTEND;VALUE=DATE:20230905
DTSTAMP:20260425T131503
CREATED:20230901T124101Z
LAST-MODIFIED:20230901T124130Z
UID:7551-1693785600-1693871999@peartreespringjm.herts.sch.uk
SUMMARY:Year 1 to Year 6 children return back to school
DESCRIPTION:
URL:https://peartreespringjm.herts.sch.uk/event/children-return-back-to-school/
END:VEVENT
BEGIN:VEVENT
DTSTART;TZID=Europe/London:20230904T093000
DTEND;TZID=Europe/London:20230904T143000
DTSTAMP:20260425T131503
CREATED:20230901T125051Z
LAST-MODIFIED:20230901T125051Z
UID:7554-1693819800-1693837800@peartreespringjm.herts.sch.uk
SUMMARY:New Reception 23/24 Meet & Greet Sessions
DESCRIPTION:
URL:https://peartreespringjm.herts.sch.uk/event/new-reception-23-24-meet-greet-sessions/
END:VEVENT
END:VCALENDAR