BEGIN:VCALENDAR
VERSION:2.0
PRODID:-//Peartree Spring Primary School - ECPv5.12.0//NONSGML v1.0//EN
CALSCALE:GREGORIAN
METHOD:PUBLISH
X-WR-CALNAME:Peartree Spring Primary School
X-ORIGINAL-URL:https://peartreespringjm.herts.sch.uk
X-WR-CALDESC:Events for Peartree Spring Primary School
REFRESH-INTERVAL;VALUE=DURATION:PT1H
X-Robots-Tag:noindex
X-PUBLISHED-TTL:PT1H
BEGIN:VTIMEZONE
TZID:Europe/London
BEGIN:DAYLIGHT
TZOFFSETFROM:+0000
TZOFFSETTO:+0100
TZNAME:BST
DTSTART:20230326T010000
END:DAYLIGHT
BEGIN:STANDARD
TZOFFSETFROM:+0100
TZOFFSETTO:+0000
TZNAME:GMT
DTSTART:20231029T010000
END:STANDARD
END:VTIMEZONE
BEGIN:VEVENT
DTSTART;VALUE=DATE:20230629
DTEND;VALUE=DATE:20230630
DTSTAMP:20260425T010001
CREATED:20230627T130508Z
LAST-MODIFIED:20230627T131003Z
UID:7366-1687996800-1688083199@peartreespringjm.herts.sch.uk
SUMMARY:Year 1 Trip to Old McDonald Farm
DESCRIPTION:
URL:https://peartreespringjm.herts.sch.uk/event/year-1-trip-to-old-mcdonald-farm/
END:VEVENT
BEGIN:VEVENT
DTSTART;TZID=Europe/London:20230629T091500
DTEND;TZID=Europe/London:20230629T094500
DTSTAMP:20260425T010001
CREATED:20230106T092551Z
LAST-MODIFIED:20230109T095908Z
UID:5975-1688030100-1688031900@peartreespringjm.herts.sch.uk
SUMMARY:Caspian Class Assembly via Livestorm
DESCRIPTION:
URL:https://peartreespringjm.herts.sch.uk/event/caspian-class-assembly-via-livestorm-2/
END:VEVENT
END:VCALENDAR