BEGIN:VCALENDAR
VERSION:2.0
PRODID:-//Peartree Spring Primary School - ECPv5.12.0//NONSGML v1.0//EN
CALSCALE:GREGORIAN
METHOD:PUBLISH
X-WR-CALNAME:Peartree Spring Primary School
X-ORIGINAL-URL:https://peartreespringjm.herts.sch.uk
X-WR-CALDESC:Events for Peartree Spring Primary School
REFRESH-INTERVAL;VALUE=DURATION:PT1H
X-Robots-Tag:noindex
X-PUBLISHED-TTL:PT1H
BEGIN:VTIMEZONE
TZID:Europe/London
BEGIN:DAYLIGHT
TZOFFSETFROM:+0000
TZOFFSETTO:+0100
TZNAME:BST
DTSTART:20230326T010000
END:DAYLIGHT
BEGIN:STANDARD
TZOFFSETFROM:+0100
TZOFFSETTO:+0000
TZNAME:GMT
DTSTART:20231029T010000
END:STANDARD
END:VTIMEZONE
BEGIN:VEVENT
DTSTART;TZID=Europe/London:20230621T093000
DTEND;TZID=Europe/London:20230621T110000
DTSTAMP:20260424T164225
CREATED:20230313T160558Z
LAST-MODIFIED:20230313T160558Z
UID:6805-1687339800-1687345200@peartreespringjm.herts.sch.uk
SUMMARY:Year 5 & 6 Sports Day @ 9.30am
DESCRIPTION:
URL:https://peartreespringjm.herts.sch.uk/event/year-5-6-sports-day-9-30am/
END:VEVENT
BEGIN:VEVENT
DTSTART;TZID=Europe/London:20230621T133000
DTEND;TZID=Europe/London:20230621T150000
DTSTAMP:20260424T164225
CREATED:20230313T160635Z
LAST-MODIFIED:20230315T151048Z
UID:6807-1687354200-1687359600@peartreespringjm.herts.sch.uk
SUMMARY:Year 3 & 4 Sports Day
DESCRIPTION:
URL:https://peartreespringjm.herts.sch.uk/event/year-3-and-4-sports-day/
END:VEVENT
END:VCALENDAR